BEGIN:VCALENDAR
VERSION:2.0
PRODID:-//Protestantse Gemeente Vorden//NONSGML kigkonsult.se iCalcreator 2.41.92//
CALSCALE:GREGORIAN
METHOD:PUBLISH
UID:30636439-3739-4563-b533-663138383433
X-WR-CALNAME:iCagenda
X-WR-CALDESC:Event Management Extension for Joomla!
X-WR-RELCALID:3E26604A-50F4-4449-8B3E-E4F4932D05B5
X-WR-TIMEZONE:UTC
BEGIN:VTIMEZONE
TZID:UTC
END:VTIMEZONE
BEGIN:VEVENT
UID:63306661-3131-4234-a665-363136333161
DTSTAMP:20260421T092344Z
CATEGORIES:Activiteiten
CLASS:PUBLIC
DESCRIPTION;ALTREP="CID:<FFFF__=0ABBE548DFE235B58f9e8a93d@coffeebean.com>":
 Locatie: Dorpskerk
DTSTART:20260202T190000Z
DTEND:20260202T190000Z
GEO:00;0
LOCATION:
ORGANIZER:
SEQUENCE:1
SUMMARY:Uur van gebed 2 februari 2026
TRANSP:OPAQUE
URL:https://www.pgvorden.nl/component/icagenda/884-uur-van-gebed-2-februari
 -2026/2026-02-02-19-00
END:VEVENT
END:VCALENDAR
